Workbook

Sheet Seznam dvojic 
B1: přihlášení
B3: příjmení | C3: jméno | D3: skupina
A4: 1 | B4: Fulka
A6: 2
A8: 3
A10: 4
A12: 5
A14: 6
A16: 7
A18: 8
A20: 9
A22: 10
A24: 11
A26: 12
A28: 13
... A34: 16

Sheet skupiny
A2: A - Chlapci | C2: =B4 -> Nejedlý Jonáš | D2: =B6 -> Šnor Jakub | E2: =B8 -> Schejbal Daniel | F2: =B10 -> Fulka Eduard | G2: počet bodů | H2: pořadí | J2: Pravidla krajského přeboru chlapců - babytenis: • se hraje se od stavu 2:2 na celý set za stavu 6:6 tiebreak • Hraje se s výhodami • Hrajeme pravidlo NO LET – bez opakujícího se podání • Hráči dodržují fair play • Děti si počítají zápasy samostatně - otáčí stav scoreboardech • Prosím sledujte pořadí zápasů • Ze skupiny postupují 2 hráči • po dohrání skupin hrajeme vyřazovacího pavouka
A4: 1 | B4: Nejedlý Jonáš | C4: x | D4: 2:6 | E4: 6:2 | F4: 6:2 | G4: 2 | H4: 2
A6: 2 | B6: Šnor Jakub | C6: 6:2 | D6: x | E6: 6:3 | F6: 6:2 | G6: 3 | H6: 1
A8: 3 | B8: Schejbal Daniel | C8: 2:6 | D8: 3:6 | E8: x | F8: 6:2 | G8: 1 | H8: 3
A10: 4 | B10: Fulka Eduard | C10: 2:6 | D10: 2:6 | E10: 2:6 | F10: x | G10: 0 | H10: 4
A12: při rovnosti počtu bodů o pořadí ve skupině rozhoduje vzájemný zápas, následně skóre, následně vyšší počet her..
A14: B - Chlapci | C14: =B16 -> Havlena Tomáš | D14: =B18 -> Šrůtek Daniel | E14: =B20 -> Myška Filip | F14: =B22 -> Provazník Tadeáš | G14: počet bodů | H14: pořadí
A16: 1 | B16: Havlena Tomáš | C16: x | D16: 4:6 | E16: 6:3 | F16: 6:2 | G16: 2 | H16: 2
A18: 2 | B18: Šrůtek Daniel | C18: 6:4 | D18: x | E18: 6:2 | F18: 6:2 | G18: 3 | H18: 1
A20: 3 | B20: Myška Filip | C20: 3:6 | D20: 2:6 | E20: x | F20: 6:2 | G20: 1 | H20: 3
A22: 4 | B22: Provazník Tadeáš | C22: 2:6 | D22: 2:6 | E22: 2:6 | F22: x | G22: 0 | H22: 4
A24: při rovnosti počtu bodů o pořadí ve skupině rozhoduje vzájemný zápas, následně skóre, následně vyšší počet her..
A26: C - Chlapci | C26: =B28 -> Kněbort Patrik | D26: =B30 -> Procházka Cyprián | E26: =B32 -> Sapák Lukáš | F26: =B34 -> Bludský Marek | G26: počet bodů | H26: pořadí
A28: 1 | B28: Kněbort Patrik | C28: x | D28: 2:6 | E28: 2:6 | F28: 2:6 | G28: 0 | H28: 4
A30: 2 | B30: Procházka Cyprián | C30: 6:2 | D30: x | E30: 4:6 | F30: 3:6 | G30: 1 | H30: 3
A32: 3 | B32: Sapák Lukáš | C32: 6:2 | D32: 6:4 | E32: x | F32: 3:6 | G32: 2 | H32: 2
A34: 4 | B34: Bludský Marek | C34: 6:2 | D34: 6:3 | E34: 6:3 | F34: x | G34: 3 | H34: 1
A36: při rovnosti počtu bodů o pořadí ve skupině rozhoduje vzájemný zápas, následně skóre, následně vyšší počet her..
A38: D - Chlapci | C38: =B40 -> Šikr Michael | D38: =B42 -> Hruška David | E38: =B44 -> Kordík Filip | F38: =B46 -> Diviš Jaroslav | G38: počet bodů | H38: pořadí
A40: 1 | B40: Šikr Michael | C40: x | D40: 6:2 | E40: 6:2 | F40: 6:2 | G40: 3 | H40: 1
A42: 2 | B42: Hruška David | C42: 2:6 | D42: x | E42: 6:2 | F42: 6:2 | G42: 2 | H42: 2
A44: 3 | B44: Kordík Filip | C44: 2:6 | D44: 2:6 | E44: x | F44: 2:6 | G44: 0 | H44: 4
A46: 4 | B46: Diviš Jaroslav | C46: 2:6 | D46: 2:6 | E46: 6:2 | F46: x | G46: 1 | H46: 3
A50: A - Dívky | C50: Winzig Laura | D50: Hurtová Ema | E50: Urbanová Elen | F50: Křivanová Valerie | G50: Murdychová Sára | H50: Vaculíková Tereza | I50: počet bodů | J50: pořadí | L50: Pravidla krajského přeboru dívek - babytenis: • se hraje se od stavu 2:2 na celý set za stavu 6:6 tiebreak • Hraje se s výhodami • Hrajeme pravidlo NO LET – bez opakujícího se podání • Hráči dodržují fair play • Děti si počítají zápasy samostatně - otáčí stav scoreboardech • Prosím sledujte pořadí zápasů • Ze skupiny postupují 4 hráčky • Možnost rozehrávky 8:15-8:55
A52: 1 | B52: Winzig Laura | C52: x | D52: 6:3 | E52: 6:4 | F52: 2:6 | G52: 7:5 | H52: 6:2 | I52: 4 | J52: 2
A54: 2 | B54: Hurtová Ema | C54: 3:6 | D54: x | E54: 6:3 | F54: 2:6 | G54: 6:4 | H54: 6:2 | I54: 3 | J54: 3
A56: 3 | B56: Urbanová Elen | C56: 4:6 | D56: 3:6 | E56: x | F56: 2:6 | G56: 2:6 | H56: 7:6 | I56: 1 | J56: 5
A58: 4 | B58: Křivanová Valerie | C58: 6:2 | D58: 6:2 | E58: 6:2 | F58: x | G58: 6:2 | H58: 6:2 | I58: 5 | J58: 1
A60: 5 | B60: Murdychová Sára | C60: 5:7 | D60: 4:6 | E60: 6:2 | F60: 2:6 | G60: x | H60: 6:2 | I60: 2 | J60: 4
A62: 6 | B62: Vaculíková Tereza | C62: 2:6 | D62: 2:6 | E62: 6:7 | F62: 2:6 | G62: 2:6 | H62: x | I62: 0 | J62: 6
A66: B - Dívky | C66: Kliment Philippa | D66: Arazímová Julie | E66: Kakos Elizabeth | F66: Vinterová Eliška | G66: Farská Viktorie | H66: počet bodů | I66: pořadí
A68: 1 | B68: Kliment Philippa | C68: x | D68: 6:2 | E68: 2:6 | F68: 6:3 | G68: 6:4 | H68: 3 | I68: 2
A70: 2 | B70: Arazímová Julie | C70: 2:6 | D70: x | E70: 3:6 | F70: 6:2 | G70: 7:6 | H70: 2 | I70: 3
A72: 3 | B72: Kakos Elizabeth | C72: 6:2 | D72: 6:3 | E72: x | F72: 6:3 | G72: 6:4 | H72: 4 | I72: 1
A74: 4 | B74: Vinterová Eliška | C74: 3:6 | D74: 2:6 | E74: 3:6 | F74: x | G74: 5:7 | H74: 0 | I74: 5
A76: 5 | B76: Farská Viktorie | C76: 4:6 | D76: 6:7 | E76: 4:6 | F76: 7:5 | G76: x | H76: 1 | I76: 4

Sheet List1

Sheet pořadí zápasů
B1: skupina | C1: zápas | F1: dvorec | G1: Čas | H1: výsledek
A2: 1. | B2: A | C2: 2-1 | D2: =skupiny!B6 -> Šnor Jakub | E2: =skupiny!B4 -> Nejedlý Jonáš | F2: 1 - B | G2: 0.375 | H2: 6:2
A4: 2. | B4: A | C4: 3-4 | D4: =skupiny!B8 -> Schejbal Daniel | E4: =skupiny!B10 -> Fulka Eduard | F4: 2 - C | G4: 0.375 | H4: 6:2
A6: 3. | B6: B | C6: 2-1 | D6: =skupiny!B18 -> Šrůtek Daniel | E6: =skupiny!B16 -> Havlena Tomáš | F6: 3 - A | G6: 0.375 | H6: 6:4
A8: 4. | B8: B | C8: 3-4 | D8: =skupiny!B20 -> Myška Filip | E8: =skupiny!B22 -> Provazník Tadeáš | F8: 5 - A | G8: 0.375 | H8: 6:2
A10: 5. | B10: C | C10: 2-1 | D10: =skupiny!B30 -> Procházka Cyprián | E10: =skupiny!B28 -> Kněbort Patrik | G10: 0.375 | H10: 6:2
A12: 6. | B12: C | C12: 3-4 | D12: =skupiny!B32 -> Sapák Lukáš | E12: =skupiny!B34 -> Bludský Marek | F12: 7 - C | G12: 0.375 | H12: 3:6
A14: 7. | B14: D | C14: 2-1 | D14: =skupiny!B42 -> Hruška David | E14: =skupiny!B40 -> Šikr Michael | F14: 8 - B | G14: 0.375 | H14: 2:6
A16: 8. | B16: D | C16: 3-4 | D16: =skupiny!B44 -> Kordík Filip | E16: =skupiny!B46 -> Diviš Jaroslav | F16: 5 | G16: 0.375 | H16: 2:6
B18: skupina | C18: zápas | D18: dvojice | E18: dvojice | F18: dvorec | G18: Čas | H18: výsledek
A19: 9. | B19: A | C19: 1-6 | D19: Winzig | E19: Vaculíková | F19: 6 | G19: 0.39583333 | H19: 6:2
A21: 10. | B21: A | C21: 2-5 | D21: Hurtová | E21: Murdychová | F21: 7 | G21: 0.39583333 | H21: 6:4
A23: 11. | B23: A | C23: 3-4 | D23: Urbanová | E23: Krivanová | F23: B | G23: 0.39583333 | H23: 2:6
A25: 12. | B25: B | C25: 2-5 | D25: Arazímová | E25: Farská | F25: A | G25: 0.39583333 | H25: 7:6
A27: 13. | B27: B | C27: 3-4 | D27: Kakos | E27: Vinterová | F27: C | G27: 0.39583333 | H27: 6:3
B29: skupina | C29: zápas | F29: dvorec | G29: Čas | H29: výsledek
A30: 14. | B30: A | C30: 1-3 | D30: =E2 -> Nejedlý Jonáš | E30: =D4 -> Schejbal Daniel | F30: 5 | H30: 6:2
A32: 15. | B32: A | C32: 2-4 | D32: =D2 -> Šnor Jakub | E32: =E4 -> Fulka Eduard | F32: 6 | H32: 6:2
A34: 16. | B34: B | C34: 1-3 | D34: =E6 -> Havlena Tomáš | E34: =D8 -> Myška Filip | F34: 7 | H34: 6:3
A36: 17. | B36: B | C36: 2-4 | D36: =D6 -> Šrůtek Daniel | E36: =E8 -> Provazník Tadeáš | F36: 4 | H36: 6:2
A38: 18. | B38: C | C38: 1-3 | D38: =E10 -> Kněbort Patrik | E38: =D12 -> Sapák Lukáš | F38: =--L30 -> 0 | H38: 2:6
A40: 19. | B40: C | C40: 2-4 | D40: =skupiny!B30 -> Procházka Cyprián | E40: =E12 -> Bludský Marek | F40: 3 | H40: 3:6
A42: 20. | B42: D | C42: 1-3 | D42: =E14 -> Šikr Michael | E42: =D16 -> Kordík Filip | F42: 2 | H42: 6:2
A44: 21. | B44: D | C44: 2-4 | D44: =D14 -> Hruška David | E44: =E16 -> Diviš Jaroslav | F44: 3 | H44: 6:2
A46: 22. | B46: A | C46: 6-4 | D46: Vaculíková | E46: Křivanová | F46: 2 | H46: 2:6
A48: 23. | B48: A | C48: 2-5 | D48: Murdychová | E48: Urbanová | F48: 4 | H48: 6:2
A50: 24. | B50: A | C50: 1-2 | D50: Winzig | E50: Hurtová | F50: B | H50: 6:3
A52: 25. | B52: B | C52: 5-3 | D52: Farská | E52: Kakos | F52: C | H52: 4:6
A54: 26. | B54: B | C54: 1-2 | D54: Kliment | E54: Arazímová | F54: A | H54: 6:2
B56: skupina | C56: zápas | D56: dvojice | E56: dvojice | F56: dvorec | G56: Čas | H56: výsledek
A57: 27. | B57: A | C57: 4-1 | D57: =E32 -> Fulka Eduard | E57: =D30 -> Nejedlý Jonáš | F57: 5 | H57: 2:6
A59: 28. | B59: A | C59: 2-3 | D59: =D32 -> Šnor Jakub | E59: =E30 -> Schejbal Daniel | F59: 4 | H59: 6:3
A61: 29. | B61: B | C61: 4-1 | D61: Provazník Tadeáš | E61: =D34 -> Havlena Tomáš | F61: 7 | H61: 2:6
A63: 30. | B63: B | C63: 2-3 | D63: =E36 -> Provazník Tadeáš | E63: =E34 -> Myška Filip
A65: 31. | B65: C | C65: 4-1 | D65: =E40 -> Bludský Marek | E65: =D38 -> Kněbort Patrik | H65: 6:2
A67: 32. | B67: C | C67: 2-3 | D67: =D40 -> Procházka Cyprián | E67: =E38 -> Sapák Lukáš | F67: A
A69: 33. | B69: D | C69: 4-1 | D69: =E44 -> Diviš Jaroslav | E69: =D42 -> Šikr Michael | F69: B | H69: 2:6
A71: 34. | B71: D | C71: 2-3 | D71: =D44 -> Hruška David | E71: =E42 -> Kordík Filip | F71: C | H71: 6:2
B73: skupina | C73: zápas | D73: dvojice | E73: dvojice | F73: dvorec | G73: Čas | H73: výsledek
A74: 35. | B74: A | C74: 2-6 | D74: Hurtová | E74: Vaculíková | F74: B | H74: 6:2
A76: 36. | B76: A | C76: 2-5 | D76: Urbanová | E76: Winzig | F76: A | H76: 4:6
A78: 37. | B78: B | C78: 1-3 | D78: Křivanová | E78: Murdychová | F78: B | H78: 6:2
A80: 38. | B80: B | C80: 2-4 | D80: Kakos | E80: Kliment | F80: C | H80: 6:2
A82: 39. | B82: B | C82: 4-5 | D82: Vinterová | E82: Farská | F82: A | H82: 5:7
A84: 40. | B84: A | C84: 6-5 | D84: Murdychová | E84: Vaculíková | F84: C | H84: 6:2
A86: 41. | B86: A | C86: 1-4 | D86: Winzig | E86: Křivanová | F86: B | H86: 2:6
A88: 42. | B88: A | C88: 2-4 | D88: Hurtová | E88: Urbanová | F88: B | H88: 6:3
B90: skupina | C90: zápas | D90: dvojice | E90: dvojice | F90: dvorec | G90: Čas | H90: výsledek
A91: 43. | B91: B | C91: 1-4 | D91: Kliment | E91: Vinterová | F91: C | H91: 6:3
A93: 44. | B93: B | C93: 2-3 | D93: Arazímová | E93: Kakos | F93: C | H93: 3:6
A95: 45. | B95: A | C95: 3-6 | D95: Urbanová | E95: Vaculíková | F95: B | H95: 7:6
A97: 46. | B97: A | C97: 2-4 | D97: Křivanová | E97: Hurtová | F97: B | H97: 6:2
A99: 47. | B99: A | C99: 5-1 | D99: Murdychová | E99: Winzig | F99: A | H99: 5:7
A101: 48. | B101: B | C101: 4-2 | D101: Vinterová | E101: Arazímová | F101: C | H101: 2:6
A103: 49. | B103: B | C103: 5-1 | D103: Farská | E103: Kliment | F103: B | H103: 3:6

Sheet Pavouk - Dívky
B2: A1 Křivanová Valerie
C6: Křivanová Valerie
B8: B4 Farská Viktorie | C8: 6:2
B10: B4
D15: Křivanová Valerie
D17: 6:3
B18: A3 Hurtová Ema
C22: Kliment Philippa
C24: 7:6
B26: B2 Kliment Philippa
C30: Křivanová Valerie
C32: 6:2
B34: A2 Winzig Laura
C38: Arazímová Julie
C40: 6:2
B42: B3 Arazímová Julie
D46: Kakos Elizabeth
D48: 6:2
B50: A4 Murdychová Sára
C54: Kakos Elizabeth
C56: 6:3
B58: B1 Kakos Elizabeth

Sheet Pavouk - chlapci
B2: A1 Šnor Jakub
C6: Hruška David
C8: 6:3
B10: D2 Hruška David
D13: Hruška David
D15: 6:3
B18: C1 Bludský Marek
C22: Bludský Marek
C24: 7:6
B26: B2 Havlena Tomáš
C30: Šikr Michael
C32: 6:2
B34: D1 Šikr Michael
C38: Šikr Michael
C40: 6:3
B42: C2 Sapák Lukáš
D46: Šikr Michael
D48: 6:2
B50: A2 Nejedlý Jonáš
C54: Šrůtek Daniel
C56: 7:5
B58: B1 Šrůtek Daniel

Sheet  
